BEGIN:VCALENDAR
VERSION:2.0
PRODID:-//Bible Institute of Holy Land - ECPv6.15.20//NONSGML v1.0//EN
CALSCALE:GREGORIAN
METHOD:PUBLISH
X-ORIGINAL-URL:https://biofholyland.com
X-WR-CALDESC:Events for Bible Institute of Holy Land
REFRESH-INTERVAL;VALUE=DURATION:PT1H
X-Robots-Tag:noindex
X-PUBLISHED-TTL:PT1H
BEGIN:VTIMEZONE
TZID:UTC
BEGIN:STANDARD
TZOFFSETFROM:+0000
TZOFFSETTO:+0000
TZNAME:UTC
DTSTART:20190101T000000
END:STANDARD
END:VTIMEZONE
BEGIN:VEVENT
DTSTART;TZID=UTC:20201117T080000
DTEND;TZID=UTC:20201120T170000
DTSTAMP:20260423T190203
CREATED:20191225T003057Z
LAST-MODIFIED:20200418T170213Z
UID:14788-1605600000-1605891600@biofholyland.com
SUMMARY:탄자니아 신학교 강의(취소)
DESCRIPTION:아프리카 탄자니아의 현지 목회자들에게 성경뼈대세우기 강의. 현지사정으로 취소됨
URL:https://biofholyland.com/event/%ed%83%84%ec%9e%90%eb%8b%88%ec%95%84-%ec%8b%a0%ed%95%99%ea%b5%90-%ea%b0%95%ec%9d%98/
END:VEVENT
BEGIN:VEVENT
DTSTART;TZID=UTC:20201023T080000
DTEND;TZID=UTC:20201025T170000
DTSTAMP:20260423T190203
CREATED:20191225T003834Z
LAST-MODIFIED:20191225T004334Z
UID:14790-1603440000-1603645200@biofholyland.com
SUMMARY:나고야 Grace Truth 교회 집회
DESCRIPTION:나고야 Grace Truth 교회(박두희목사)에서 집회 인도
URL:https://biofholyland.com/event/%eb%82%98%ea%b3%a0%ec%95%bc-grace-truth-%ea%b5%90%ed%9a%8c-%ec%a7%91%ed%9a%8c/
END:VEVENT
BEGIN:VEVENT
DTSTART;TZID=UTC:20200929T080000
DTEND;TZID=UTC:20201002T170000
DTSTAMP:20260423T190203
CREATED:20191225T002920Z
LAST-MODIFIED:20200418T170132Z
UID:14786-1601366400-1601658000@biofholyland.com
SUMMARY:우크라이나 은혜신학교 강의(취소)
DESCRIPTION:Kiev\, Ukraine소재 은혜신학교에서 성경뼈대세우기 강의. 취소됨
URL:https://biofholyland.com/event/%ec%9a%b0%ed%81%ac%eb%9d%bc%ec%9d%b4%eb%82%98-%ec%9d%80%ed%98%9c%ec%8b%a0%ed%95%99%ea%b5%90-%ea%b0%95%ec%9d%98/
END:VEVENT
BEGIN:VEVENT
DTSTART;TZID=UTC:20200810T080000
DTEND;TZID=UTC:20200814T170000
DTSTAMP:20260423T190203
CREATED:20191225T002308Z
LAST-MODIFIED:20191225T002308Z
UID:14780-1597046400-1597424400@biofholyland.com
SUMMARY:GMI 선교사 훈련원 강의
DESCRIPTION:국제총회 산하 Grace Ministries International 선교사 훈련원생들에게 성경뼈대세우기 강의.
URL:https://biofholyland.com/event/gmi-%ec%84%a0%ea%b5%90%ec%82%ac-%ed%9b%88%eb%a0%a8%ec%9b%90-%ea%b0%95%ec%9d%98/
END:VEVENT
BEGIN:VEVENT
DTSTART;TZID=UTC:20200601T080000
DTEND;TZID=UTC:20200605T170000
DTSTAMP:20260423T190203
CREATED:20191225T002121Z
LAST-MODIFIED:20200418T170037Z
UID:14778-1590998400-1591376400@biofholyland.com
SUMMARY:쿠바 은혜신학교 강의(취소)
DESCRIPTION:Havana\, Cuba 소재 은혜신학교에서 신학생들을 위해 성경뼈대세우기 강의. 코로나바이러스로 인해 취소됨
URL:https://biofholyland.com/event/%ec%bf%a0%eb%b0%94-%ec%9d%80%ed%98%9c%ec%8b%a0%ed%95%99%ea%b5%90-%ea%b0%95%ec%9d%98/
END:VEVENT
BEGIN:VEVENT
DTSTART;TZID=UTC:20200504T080000
DTEND;TZID=UTC:20200514T170000
DTSTAMP:20260423T190203
CREATED:20191225T001856Z
LAST-MODIFIED:20200418T165942Z
UID:14776-1588579200-1589475600@biofholyland.com
SUMMARY:터키\, 그리스 성지순례 인도(취소)
DESCRIPTION:미국 엘에이 소재 남가주 새누리교회(박성근목사) 성도님들 대상의 성지순례(10박11일) 인도\, 취소되었습니다.
URL:https://biofholyland.com/event/%ed%84%b0%ed%82%a4-%ea%b7%b8%eb%a6%ac%ec%8a%a4-%ec%84%b1%ec%a7%80%ec%88%9c%eb%a1%80-%ec%9d%b8%eb%8f%84/
END:VEVENT
BEGIN:VEVENT
DTSTART;TZID=UTC:20200414T080000
DTEND;TZID=UTC:20200417T170000
DTSTAMP:20260423T190203
CREATED:20191225T001622Z
LAST-MODIFIED:20200418T165845Z
UID:14774-1586851200-1587142800@biofholyland.com
SUMMARY:페루 AFA(취소)
DESCRIPTION:Lima\, Peru에서 Peru 교회지도자 대상 America\nFuego De Amor (3박4일) 인도\, Corona Virus 사태로 인해 취소되었습니다.
URL:https://biofholyland.com/event/%ed%8e%98%eb%a3%a8-afa/
END:VEVENT
BEGIN:VEVENT
DTSTART;TZID=UTC:20200323T080000
DTEND;TZID=UTC:20200402T170000
DTSTAMP:20260423T190203
CREATED:20191225T001346Z
LAST-MODIFIED:20200418T165718Z
UID:14772-1584950400-1585846800@biofholyland.com
SUMMARY:이스라엘 요르단 성지순례(취소)
DESCRIPTION:10박11일의 이스라엘과 요르단 성지순례 (원주 삼천교회 성도)인도.  Corona Virus 사태로 인해 취소되었습니다.
URL:https://biofholyland.com/event/%ec%9d%b4%ec%8a%a4%eb%9d%bc%ec%97%98-%ec%9a%94%eb%a5%b4%eb%8b%a8-%ec%84%b1%ec%a7%80%ec%88%9c%eb%a1%80/
END:VEVENT
BEGIN:VEVENT
DTSTART;TZID=UTC:20200127T080000
DTEND;TZID=UTC:20200131T170000
DTSTAMP:20260423T190203
CREATED:20191225T001120Z
LAST-MODIFIED:20191225T001120Z
UID:14769-1580112000-1580490000@biofholyland.com
SUMMARY:베네주엘라 신학교 강의
DESCRIPTION:베네주엘라 은혜신학교에서 성경뼈대세우기 강의
URL:https://biofholyland.com/event/%eb%b2%a0%eb%84%a4%ec%a3%bc%ec%97%98%eb%9d%bc-%ec%8b%a0%ed%95%99%ea%b5%90-%ea%b0%95%ec%9d%98/
LOCATION:Caracass\, Venezuela
END:VEVENT
END:VCALENDAR